BEGIN:VCALENDAR
VERSION:2.0
PRODID:-//ChamberMaster//Event Calendar 2.0//EN
METHOD:PUBLISH
X-PUBLISHED-TTL:P3D
REFRESH-INTERVAL:P3D
CALSCALE:GREGORIAN
BEGIN:VEVENT
DTSTART:20231212T160000Z
DTEND:20231212T170000Z
X-MICROSOFT-CDO-ALLDAYEVENT:FALSE
SUMMARY:Coffee & Commerce- Legislative Preview
DESCRIPTION:Join us for coffee with the State Legislators that represent the Wenatchee Valley as we discuss what's in store when the Legislature gavels into session in January. Our Legislators will be joining us to share their insights on important topics and what their focus is walking into the 2024 Legislative session.\n\n \n\nThank you to our sponsor American Family Insurance\, Jake Davison Agent!\n\n \n\nThis event is free. Space is limited\, registration is required.
X-ALT-DESC;FMTTYPE=text/html:<div background-color:="" color:="" font-size:="" segoe="" ui="">Join us for coffee with the State Legislators that represent the Wenatchee Valley&nbsp\;as we discuss what&#39\;s in store when the Legislature gavels into session in January. Our&nbsp\;Legislators will be joining us to share their insights on important topics and what their focus is walking into the 2024 Legislative session.<br />\n&nbsp\;</div>\n\n<div background-color:="" color:="" font-size:="" segoe="" ui="">Thank you to our sponsor American Family Insurance\, Jake Davison Agent!<br />\n&nbsp\;</div>\n\n<div background-color:="" color:="" font-size:="" segoe="" ui="">This event is free. Space is limited\, registration is required.</div>\n
LOCATION:Location Change Pybus Public Market- Localtel Event Center
UID:e.289.8660
SEQUENCE:3
DTSTAMP:20260420T221649Z
URL:http://wenatcheedev.chambermaster.com/events/details/coffee-amp-commerce-legislative-preview-8660
END:VEVENT

END:VCALENDAR
