BEGIN:VCALENDAR
VERSION:2.0
PRODID:-//ChamberMaster//Event Calendar 2.0//EN
METHOD:PUBLISH
X-PUBLISHED-TTL:P3D
REFRESH-INTERVAL:P3D
CALSCALE:GREGORIAN
BEGIN:VEVENT
DTSTART:20241009T150000Z
DTEND:20241009T163000Z
X-MICROSOFT-CDO-ALLDAYEVENT:FALSE
SUMMARY:Coffee & Commerce- Emergency Services
DESCRIPTION:Join us for an essential Coffee & Commerce event focused on the wellbeing of our community. This is a unique opportunity to connect with the leaders of our local emergency services\, including the Chiefs of Police from Wenatchee and East Wenatchee\, as well as the Fire Chief of the Wenatchee Valley Fire Department.\n\nDiscover how businesses can collaborate effectively with our emergency services to enhance safety and support in the Wenatchee Valley. Engage in meaningful discussions on pressing issues such as public safety\, emergency preparedness\, and community resilience. Your participation will help forge stronger ties between local businesses and the dedicated professionals who work tirelessly to keep our community safe.
X-ALT-DESC;FMTTYPE=text/html:<p>Join us for an essential Coffee &amp\; Commerce event focused on the wellbeing of our community. This is a unique opportunity to connect with the leaders of our local emergency services\, including the Chiefs of Police from Wenatchee and East Wenatchee\, as well as the Fire Chief of the Wenatchee Valley Fire Department.</p>\n\n<p>Discover how businesses can collaborate effectively with our emergency services to enhance safety and support in the Wenatchee Valley. Engage in meaningful discussions on pressing issues such as public safety\, emergency preparedness\, and community resilience. Your participation will help forge stronger ties between local businesses and the dedicated professionals who work tirelessly to keep our community safe.</p>\n
LOCATION:Wenatchee Valley Chamber of Commerce
UID:e.289.9153
SEQUENCE:3
DTSTAMP:20260421T051659Z
URL:http://wenatcheedev.chambermaster.com/events/details/coffee-commerce-emergency-services-9153
END:VEVENT

END:VCALENDAR
