BEGIN:VCALENDAR
VERSION:2.0
PRODID:-//ChamberMaster//Event Calendar 2.0//EN
METHOD:PUBLISH
X-PUBLISHED-TTL:P3D
REFRESH-INTERVAL:P3D
CALSCALE:GREGORIAN
BEGIN:VEVENT
DTSTART:20230623T000000Z
DTEND:20230623T020000Z
X-MICROSOFT-CDO-ALLDAYEVENT:FALSE
SUMMARY:Connect For a Cause
DESCRIPTION:Children's Home Society of Washington is the largest statewide nonprofit family services organization in Washington\, serving thousands of children and families each year. They provide families in the Greater Wenatchee community access to its services and programs\, including family support and behavioral health services to support continued success in all aspects of life. Stop by to network with community leaders and team members to learn more about the positive impact Children's Home Society of Washington has on families in Greater Wenatchee. RSVP today!
X-ALT-DESC;FMTTYPE=text/html:Children&rsquo\;s Home Society of Washington is the largest statewide nonprofit family services organization in Washington\, serving thousands of children and families each year. They provide families in the Greater Wenatchee community access to its services and programs\, including family support and behavioral health services to support continued success in all aspects of life. Stop by to network with community leaders and team members to learn more about the positive impact Children&rsquo\;s Home Society of Washington has on families in Greater Wenatchee. RSVP today!
LOCATION:Host Wenatchee 10 S. Columbia Street Wenatchee
UID:e.289.8552
SEQUENCE:3
DTSTAMP:20260424T070044Z
URL:http://wenatcheedev.chambermaster.com/events/details/connect-for-a-cause-8552
END:VEVENT

END:VCALENDAR
