BEGIN:VCALENDAR
VERSION:2.0
PRODID:-//ChamberMaster//Event Calendar 2.0//EN
METHOD:PUBLISH
X-PUBLISHED-TTL:P3D
REFRESH-INTERVAL:P3D
CALSCALE:GREGORIAN
BEGIN:VEVENT
DTSTART:20231020T003000Z
DTEND:20231020T013000Z
X-MICROSOFT-CDO-ALLDAYEVENT:FALSE
SUMMARY:Curious Conversations: Compassionate Communication
DESCRIPTION:It's not what you say. It's how you say it. Discover techniques for curious conversations that help people listen and understand each other by transforming a negative statement into a positive. This education series is in partnership with Wenatchee Valley Dispute Resolution Center and NCW Equity Alliance and will feature learning sessions based on principals and skills used in mediation and restorative practices. Participants will learn listening and communication skills\; study conflict dynamics and styles\; and learn how to practice conflict resolution skills for de-escalation and peaceful communication. Attendance at each session in the series is highly recommended. Drawing for a door prize will be awarded at each session. Additional tickets for drawing at final session will be provided for participants attending multiple sessions. All sessions are free + open to the public.
X-ALT-DESC;FMTTYPE=text/html:It&rsquo\;s not what you say. It&rsquo\;s how you say it. Discover techniques for curious conversations that help people listen and understand each other by transforming a negative statement into a positive. This education series is in partnership with Wenatchee Valley Dispute Resolution Center and NCW Equity Alliance and will feature learning sessions based on principals and skills used in mediation and restorative practices. Participants will learn listening and communication skills\; study conflict dynamics and styles\; and learn how to practice conflict resolution skills for de-escalation and peaceful communication. Attendance at each session in the series is highly recommended. Drawing for a door prize will be awarded at each session. Additional tickets for drawing at final session will be provided for participants attending multiple sessions. All sessions are free + open to the public.
LOCATION:Wenatchee Public Library\, 310 Douglas Street\, Wenatchee\, WA
UID:e.289.8604
SEQUENCE:3
DTSTAMP:20260422T031951Z
URL:http://wenatcheedev.chambermaster.com/events/details/curious-conversations-compassionate-communication-8604
END:VEVENT

END:VCALENDAR
