BEGIN:VCALENDAR
VERSION:2.0
PRODID:-//ChamberMaster//Event Calendar 2.0//EN
METHOD:PUBLISH
X-PUBLISHED-TTL:P3D
REFRESH-INTERVAL:P3D
CALSCALE:GREGORIAN
BEGIN:VEVENT
DTSTART:20231010T200000Z
DTEND:20231011T000000Z
X-MICROSOFT-CDO-ALLDAYEVENT:FALSE
SUMMARY:De-escalation Training
DESCRIPTION:Anger? Frustration? How do I react? How might I respond? Learn basic techniques for de-escalation when conflict arises. 4 hours of personal and professional development. Registration OPEN
X-ALT-DESC;FMTTYPE=text/html:Anger? Frustration? How do I react? How might I respond? Learn basic techniques for de-escalation when conflict arises. 4 hours of personal and professional development. Registration OPEN
LOCATION:Wenatchee Valley Dispute Resolution Center (WVCRC) 5 South Wenatchee Avenue\, Suite 210 Wenatchee\, WA 98801
UID:e.289.8619
SEQUENCE:3
DTSTAMP:20260421T225403Z
URL:http://wenatcheedev.chambermaster.com/events/details/de-escalation-training-8619
END:VEVENT

END:VCALENDAR
