BEGIN:VCALENDAR
VERSION:2.0
PRODID:-//ChamberMaster//Event Calendar 2.0//EN
METHOD:PUBLISH
X-PUBLISHED-TTL:P3D
REFRESH-INTERVAL:P3D
CALSCALE:GREGORIAN
BEGIN:VEVENT
DTSTART:20221112T023000Z
DTEND:20221112T043000Z
X-MICROSOFT-CDO-ALLDAYEVENT:FALSE
SUMMARY:Harvest Winemaker Dinner
DESCRIPTION:Celebrate fall in Central Washington with a five-course seasonally inspired dinner with thoughtfully curated wine pairings! Join us at Vin du Lac Winery on November 11th for our first of four winemaker's dinners welcoming our new executive chef\, Pete List. Farm-to-table dining\, delicious wines\, and breathtaking fall views overlooking picturesque Lake Chelan await!
X-ALT-DESC;FMTTYPE=text/html:Celebrate fall in Central Washington with a five-course seasonally inspired dinner with thoughtfully curated wine pairings! Join us at Vin du Lac Winery on November 11th for our first of four winemaker&#39\;s dinners welcoming our new executive chef\, Pete List. Farm-to-table dining\, delicious wines\, and breathtaking fall views overlooking picturesque Lake Chelan await!
LOCATION:Vin du Lac Winery and Bistro 105 Highway 150 Chelan\, WA 98816
UID:e.289.8152
SEQUENCE:3
DTSTAMP:20260426T042506Z
URL:http://wenatcheedev.chambermaster.com/events/details/harvest-winemaker-dinner-8152
END:VEVENT

END:VCALENDAR
