BEGIN:VCALENDAR
VERSION:2.0
PRODID:-//ChamberMaster//Event Calendar 2.0//EN
METHOD:PUBLISH
X-PUBLISHED-TTL:P3D
REFRESH-INTERVAL:P3D
CALSCALE:GREGORIAN
BEGIN:VEVENT
DTSTART:20230228T153000Z
DTEND:20230228T160000Z
X-MICROSOFT-CDO-ALLDAYEVENT:FALSE
SUMMARY:Legislative Updates
DESCRIPTION:Have you been wondering what is going on in the Washington State Legislature this session? Interested in hearing about the latest updates to unemployment insurance taxes\, business relief\, housing\, and more? Join the WVCC's lobbyist Bruce Beckett for a legislative update. This event is free to current WVCC members and $10/non-members\, please be sure to register to get the Zoom link.
X-ALT-DESC;FMTTYPE=text/html:<span style="font-size:14px\;"><span style="font-family:arial\;">Have you been wondering what is going on in the Washington State Legislature this session? Interested in hearing about the latest updates to unemployment insurance taxes\, business relief\, housing\, and more? Join the WVCC&rsquo\;s lobbyist Bruce Beckett for a legislative update. This event is free to current WVCC members and $10/non-members\, please be sure to register to get the Zoom link.</span></span>
LOCATION:Zoom - Online Event
UID:e.289.8188
SEQUENCE:3
DTSTAMP:20260425T144414Z
URL:http://wenatcheedev.chambermaster.com/events/details/legislative-updates-8188
END:VEVENT

END:VCALENDAR
