BEGIN:VCALENDAR
VERSION:2.0
PRODID:-//ChamberMaster//Event Calendar 2.0//EN
METHOD:PUBLISH
X-PUBLISHED-TTL:P3D
REFRESH-INTERVAL:P3D
CALSCALE:GREGORIAN
BEGIN:VEVENT
DTSTART:20230425T143000Z
DTEND:20230425T150000Z
X-MICROSOFT-CDO-ALLDAYEVENT:FALSE
SUMMARY:Legislative Updates - Member Exclusive
DESCRIPTION:Have you been wondering what is going on in the Washington State Legislature this session? Interested in hearing about the latest updates to unemployment insurance taxes\, business relief\, housing\, and more? Join the WVCC's lobbyist Bruce Beckett for a legislative update. This event is free but exclusive to current WVCC members\, please be sure to register to get the Zoom link.
X-ALT-DESC;FMTTYPE=text/html:<span style="font-family: arial\; font-size: 14px\;">Have you been wondering what is going on in the Washington State Legislature this session? Interested in hearing about the latest updates to unemployment insurance taxes\, business relief\, housing\, and more? Join the WVCC&rsquo\;s lobbyist Bruce Beckett for a legislative update. This event is free but exclusive to current WVCC members\, please be sure to register to get the Zoom link.</span>
LOCATION:Zoom - Online Event
UID:e.289.8190
SEQUENCE:3
DTSTAMP:20260423T143749Z
URL:http://wenatcheedev.chambermaster.com/events/details/legislative-updates-member-exclusive-8190
END:VEVENT

END:VCALENDAR
